BEGIN:VCALENDAR
VERSION:2.0
PRODID:-//wp-events-plugin.com//7.2.3.1//EN
TZID:America/New_York
X-WR-TIMEZONE:America/New_York
BEGIN:VEVENT
UID:776@ssa.ccny.cuny.edu
DTSTART;TZID=America/New_York:20260408T123000
DTEND;TZID=America/New_York:20260408T131500
DTSTAMP:20260326T164317Z
URL:https://ssa.ccny.cuny.edu/events/admitted-masters-students-live-chat-q
 a/
SUMMARY:Admitted Master's Students Live Chat Q&A
DESCRIPTION:\nAre you an admitted master's student who has questions about 
 next steps\, or who wants to connect with other incoming students? Swing b
 y this Zoom session to speak with admissions staff and your future classma
 tes.
CATEGORIES:Events,Grad Info Sessions,Info Sessions
END:VEVENT
BEGIN:VTIMEZONE
TZID:America/New_York
X-LIC-LOCATION:America/New_York
BEGIN:DAYLIGHT
DTSTART:20260308T030000
TZOFFSETFROM:-0500
TZOFFSETTO:-0400
TZNAME:EDT
END:DAYLIGHT
END:VTIMEZONE
END:VCALENDAR