BEGIN:VCALENDAR
VERSION:2.0
PRODID:-//wp-events-plugin.com//7.2.3.1//EN
TZID:America/New_York
X-WR-TIMEZONE:America/New_York
BEGIN:VEVENT
UID:221@ssa.ccny.cuny.edu
DTSTART;TZID=America/New_York:20181025T183000
DTEND;TZID=America/New_York:20181025T200000
DTSTAMP:20180824T140830Z
URL:https://ssa.ccny.cuny.edu/events/amale-andraos/
SUMMARY:Sciame Lecture Series: Amale Andraos
DESCRIPTION:&nbsp\;\n\nIntroduction by Associate Professor and Department C
 hair Julio Salcedo\n\nAmale Andraos is Dean of the Columbia University Gra
 duate School of Architecture\, Planning and Preservation (Columbia GSAPP) 
 and co-founder of WORKac\, with her partner Dan Wood. Based in New York Ci
 ty\, their projects focus on reinventing the relationship between urban an
 d natural environments. WORKac recently completed the Kew Gardens Hill Lib
 rary\, Queens\; PS7 Edible Schoolyard\, Harlem\; and the Collage Garage in
  Miami’s Design District. Large-scale international projects include the
  winning competition entry for a Conference Center in Libreville\, Gabon a
 nd a new residential development in Batroun\, Lebanon\, among others. Thei
 r work has been exhibited at The Museum of Modern Art\, Canadian Centre fo
 r Architecture\, and is regularly featured at international biennials. The
  firm has received numerous awards\, and Andraos was named a 2017 Game Cha
 nger by Metropolis Magazine.\n\nAmale Andraos has taught and lectured exte
 nsively\, and her publications include 49 Cities (3rd edition by Inventory
  Press\, 2016) and Above the Pavement the Farm! (Princeton Architectural P
 ress\, 2009)\, both co-authored by Dan Wood\, and The Arab City: Architect
 ure and Representation (Columbia Books on Architecture and the City\, 2016
 )\, co-edited by Nora Akawi. Monacelli Press published the book We’ll Ge
 t There When We Cross That Bridge about WORKac in 2017.\n\n&nbsp\;\n\nAll 
 lectures are free\, open to the public\, and held at 6:30 pm in the Bernar
 d and Anne Spitzer School of Architecture Sciame Auditorium. Continuing Ed
 ucation Credit for registered New York architects is available.\n\nLecture
  series sponsored by Sciame . . . Where Building Is an Art.
CATEGORIES:Lectures,Sciame Lectures
LOCATION:Bernard and Anne Spitzer School of Architecture\, 141 Convent Aven
 ue\, New York\, NY\, 10031\, United States
GEO:40.8177595;-73.95047339999996
X-APPLE-STRUCTURED-LOCATION;VALUE=URI;X-ADDRESS=141 Convent Avenue\, New Yo
 rk\, NY\, 10031\, United States;X-APPLE-RADIUS=100;X-TITLE=Bernard and Ann
 e Spitzer School of Architecture:geo:40.8177595,-73.95047339999996
END:VEVENT
BEGIN:VTIMEZONE
TZID:America/New_York
X-LIC-LOCATION:America/New_York
BEGIN:DAYLIGHT
DTSTART:20180311T030000
TZOFFSETFROM:-0500
TZOFFSETTO:-0400
TZNAME:EDT
END:DAYLIGHT
END:VTIMEZONE
END:VCALENDAR