BEGIN:VCALENDAR
VERSION:2.0
PRODID:-//wp-events-plugin.com//7.2.3.1//EN
TZID:America/New_York
X-WR-TIMEZONE:America/New_York
BEGIN:VEVENT
UID:58@ssa.ccny.cuny.edu
DTSTART;TZID=America/New_York:20170601T180000
DTEND;TZID=America/New_York:20170601T200000
DTSTAMP:20170719T194636Z
URL:https://ssa.ccny.cuny.edu/events/annual-scholarship-awards-ceremony/
SUMMARY:Annual Scholarship & Awards Ceremony
DESCRIPTION:Recognition of non-graduating students who have won scholarship
 s and awards. Open to all students\, family\, and friends.\n
ATTACH;FMTTYPE=image/jpeg:https://ssa.ccny.cuny.edu/wp-content/uploads/201
 7/07/Award.jpg
CATEGORIES:Special Events
LOCATION:Spitzer School Atrium Gallery\, 141 Convent Avenue\, New York\, NY
 \, 10031\, United States
GEO:40.8177595;-73.95047339999996
X-APPLE-STRUCTURED-LOCATION;VALUE=URI;X-ADDRESS=141 Convent Avenue\, New Yo
 rk\, NY\, 10031\, United States;X-APPLE-RADIUS=100;X-TITLE=Spitzer School 
 Atrium Gallery:geo:40.8177595,-73.95047339999996
END:VEVENT
BEGIN:VTIMEZONE
TZID:America/New_York
X-LIC-LOCATION:America/New_York
BEGIN:DAYLIGHT
DTSTART:20170312T030000
TZOFFSETFROM:-0500
TZOFFSETTO:-0400
TZNAME:EDT
END:DAYLIGHT
END:VTIMEZONE
END:VCALENDAR