BEGIN:VCALENDAR
VERSION:2.0
PRODID:-//wp-events-plugin.com//7.2.3.1//EN
TZID:America/New_York
X-WR-TIMEZONE:America/New_York
BEGIN:VEVENT
UID:91@ssa.ccny.cuny.edu
DTSTART;TZID=America/New_York:20160929T183000
DTEND;TZID=America/New_York:20160929T200000
DTSTAMP:20170705T194254Z
URL:https://ssa.ccny.cuny.edu/events/anthropocene-rob-holmes/
SUMMARY:Anthropocene: ROB HOLMES
DESCRIPTION:Introduction: Catherine Seavitt\, Associate Professor\n\nRob H
 olmes is an assistant professor of landscape architecture at Auburn Unive
 rsity\, where he teaches design studios and courses in landscape architect
 ural history\, theory\, and contemporary issues. He is also co-founder of 
 the Dredge Research Collaborative\, which investigates human sediment han
 dling practices through publications\, the DredgeFest event series\, and 
 various other projects\, and co-author of Mammoth\, a blog about infrastru
 ctures\, logistics\, landscapes\, and architectural possibilities.\n\nHis 
 research is primarily concerned with how infrastructures constructed in s
 upport of urbanization relate to landscape change. Current projects includ
 e  the “Four Coasts” project\, an examination of the role of sedimen
 t as infrastructure in four coastal regions of North America with the Dred
 ge Research Collaborative\, and design research on hydrological control i
 nfrastructures in south Florida\, supported by the Graham Foundation for A
 dvanced Studies in the Fine Arts.\n\nPrior to joining Auburn\, he practice
 d landscape architecture in Virginia\, with Michael Vergason Landscape Arc
 hitects\, and taught in Florida\, Virginia\, Louisiana\, and Ohio.\n\n&nb
 sp\;\n\nAll lectures are free\, open to the public\, and held at 6:30 pm i
 n the Bernard and Anne Spitzer School of Architecture Sciame Auditorium. C
 ontinuing Education Credit for registered New York architects is available
 .\nLecture series sponsored by Sciame . . . Where Building Is an Art.
CATEGORIES:Lectures,Sciame Lectures
LOCATION:Sciame Auditorium (Room 107)\, 141 Convent Avenue\, New York\, NY\
 , 10031\, United States
GEO:40.8177595;-73.95047339999996
X-APPLE-STRUCTURED-LOCATION;VALUE=URI;X-ADDRESS=141 Convent Avenue\, New Yo
 rk\, NY\, 10031\, United States;X-APPLE-RADIUS=100;X-TITLE=Sciame Auditori
 um (Room 107):geo:40.8177595,-73.95047339999996
END:VEVENT
BEGIN:VTIMEZONE
TZID:America/New_York
X-LIC-LOCATION:America/New_York
BEGIN:DAYLIGHT
DTSTART:20160313T030000
TZOFFSETFROM:-0500
TZOFFSETTO:-0400
TZNAME:EDT
END:DAYLIGHT
END:VTIMEZONE
END:VCALENDAR