BEGIN:VCALENDAR
VERSION:2.0
PRODID:-//wp-events-plugin.com//7.2.3.1//EN
TZID:America/New_York
X-WR-TIMEZONE:America/New_York
BEGIN:VEVENT
UID:464@ssa.ccny.cuny.edu
DTSTART;TZID=America/New_York:20211026T180000
DTEND;TZID=America/New_York:20211026T193000
DTSTAMP:20211213T155632Z
URL:https://ssa.ccny.cuny.edu/events/architecture-graduate-programs-info-s
 ession-2/
SUMMARY:Architecture Graduate Programs Info Session
DESCRIPTION:Join this virtual information session for an introduction to th
 e architecture\, landscape architecture\, and urban design graduate progra
 ms\, the "unit system" pedagogy\, details about the graduate admission and
  application process\, and other information about what to expect at CCNY'
 s Spitzer School of Architecture.\n\nRegistration required!\n\n\n\n&nbsp\;
 \n\nSpeakers:\n\nNandini Bagchee\nDirector of MS Architecture Program\, As
 sociate Professor\n\nFrank Melendez\nActing Director of Master of Architec
 ture Program\, Associate Professor\n\nJulio Salcedo-Fernandez\nDirector of
  Graduate Urban Design Program\, Associate Professor\n\nCatherine Seavitt 
 Nordenson\nDirector of Graduate Landscape Architecture Program\, Professor
 \n\nHannah Borgeson\nDirector of Graduate Affairs
CATEGORIES:Events,Grad Info Sessions,Info Sessions
END:VEVENT
BEGIN:VTIMEZONE
TZID:America/New_York
X-LIC-LOCATION:America/New_York
BEGIN:DAYLIGHT
DTSTART:20210314T030000
TZOFFSETFROM:-0500
TZOFFSETTO:-0400
TZNAME:EDT
END:DAYLIGHT
END:VTIMEZONE
END:VCALENDAR