BEGIN:VCALENDAR
VERSION:2.0
PRODID:-//wp-events-plugin.com//7.2.3.1//EN
TZID:America/New_York
X-WR-TIMEZONE:America/New_York
BEGIN:VEVENT
UID:631@ssa.ccny.cuny.edu
DTSTART;TZID=America/New_York:20231003T173000
DTEND;TZID=America/New_York:20231003T190000
DTSTAMP:20230912T170700Z
URL:https://ssa.ccny.cuny.edu/events/architecture-graduate-programs-info-s
 ession-4/
SUMMARY:Architecture Graduate Programs Info Session
DESCRIPTION:Join this virtual information session for an introduction to th
 e architecture\, landscape architecture\, and urban design graduate progra
 ms\, the studio pedagogy\, details about the graduate admission and applic
 ation process\, and other information about what to expect at CCNY's Spitz
 er School of Architecture.\n\nRegistration required!\n\n\n\n&nbsp\;\n\nSpe
 akers:\n\nMarta Gutman\nDean\, Architecture\n\nJune Williamson\nDirector o
 f Graduate Architecture\, Professor\n\nJulio Salcedo-Fernandez\nDirector o
 f Graduate Urban Design Program\, Associate Professor\n\nZihao Zhang\nDire
 ctor of Graduate Landscape Architecture Program\, Assistant Professor\n\nH
 annah Borgeson\nDirector of Graduate Affairs
CATEGORIES:Events,Grad Info Sessions,Info Sessions
END:VEVENT
BEGIN:VTIMEZONE
TZID:America/New_York
X-LIC-LOCATION:America/New_York
BEGIN:DAYLIGHT
DTSTART:20230312T030000
TZOFFSETFROM:-0500
TZOFFSETTO:-0400
TZNAME:EDT
END:DAYLIGHT
END:VTIMEZONE
END:VCALENDAR