BEGIN:VCALENDAR
VERSION:2.0
PRODID:-//wp-events-plugin.com//7.2.3.1//EN
TZID:America/New_York
X-WR-TIMEZONE:America/New_York
BEGIN:VEVENT
UID:208@ssa.ccny.cuny.edu
DTSTART;TZID=America/New_York:20181009T173000
DTEND;TZID=America/New_York:20181009T190000
DTSTAMP:20180924T175741Z
URL:https://ssa.ccny.cuny.edu/events/architecture-graduate-programs-info-s
 ession/
SUMMARY:Architecture Graduate Programs Info Session
DESCRIPTION:Join this information session to get an insider’s perspective
  on the architecture\, landscape architecture\, and urban design graduate 
 programs\, the graduate admission and application process\, as well as wha
 t to expect at CCNY's Spitzer School of Architecture.\n\nRegistration requ
 ested\n\nSpeakers:\n\nGordon Gebert\nInterim Dean\, The Bernard and Anne S
 pitzer School of Architecture\n\nMichael Sorkin\nDirector of Graduate Urba
 n Design Program\, Distinguished Professor\n\nDenise Hoffman Brandt\nDirec
 tor of Graduate Landscape Architecture Program\, Associate Professor\n\nBr
 adley Horn\nDirector of Graduate Architecture Program\, Associate Professo
 r\n\nHannah Borgeson\nGraduate Student Services Manager\n\n&nbsp\;
CATEGORIES:Grad Info Sessions,Special Events
LOCATION:CUNY Welcome Center\, 217 E 42nd Street\, New York\, NY\, 10017\, 
 United States
X-APPLE-STRUCTURED-LOCATION;VALUE=URI;X-ADDRESS=217 E 42nd Street\, New Yor
 k\, NY\, 10017\, United States;X-APPLE-RADIUS=100;X-TITLE=CUNY Welcome Cen
 ter:geo:0,0
END:VEVENT
BEGIN:VTIMEZONE
TZID:America/New_York
X-LIC-LOCATION:America/New_York
BEGIN:DAYLIGHT
DTSTART:20180311T030000
TZOFFSETFROM:-0500
TZOFFSETTO:-0400
TZNAME:EDT
END:DAYLIGHT
END:VTIMEZONE
END:VCALENDAR