BEGIN:VCALENDAR
VERSION:2.0
PRODID:-//wp-events-plugin.com//7.2.3.1//EN
TZID:America/New_York
X-WR-TIMEZONE:America/New_York
BEGIN:VEVENT
UID:553@ssa.ccny.cuny.edu
DTSTART;TZID=America/New_York:20221025T170000
DTEND;TZID=America/New_York:20221025T190000
DTSTAMP:20221007T140702Z
URL:https://ssa.ccny.cuny.edu/events/architecture-undergraduate-open-house
 /
SUMMARY:Architecture Undergraduate Open House
DESCRIPTION:&nbsp\;\n\nJoin us for an open house detailing the Spitzer Scho
 ol's 5-year Bachelor of Architecture program. Hear from administration\, f
 aculty\, and current students about the program and life at Spitzer. A CCN
 Y Admissions representative will also share details about the complete app
 lication process. We hope to see you there!\n\n\n\n&nbsp\;
CATEGORIES:Events,Undergraduate Info Sessions
END:VEVENT
BEGIN:VTIMEZONE
TZID:America/New_York
X-LIC-LOCATION:America/New_York
BEGIN:DAYLIGHT
DTSTART:20220313T030000
TZOFFSETFROM:-0500
TZOFFSETTO:-0400
TZNAME:EDT
END:DAYLIGHT
END:VTIMEZONE
END:VCALENDAR