BEGIN:VCALENDAR
VERSION:2.0
PRODID:-//wp-events-plugin.com//7.2.3.1//EN
TZID:America/New_York
X-WR-TIMEZONE:America/New_York
BEGIN:VEVENT
UID:4@ssa.ccny.cuny.edu
DTSTART;TZID=America/New_York:20170601T183000
DTEND;TZID=America/New_York:20170601T210000
DTSTAMP:20170719T194825Z
URL:https://ssa.ccny.cuny.edu/events/ccny-architecture-alumni-spring-event
 /
SUMMARY:CCNY Architecture Alumni Spring Event
DESCRIPTION:Honoring: William Garrison McNeil '65 for Career Achievement &
 amp\; Arnaldo Melendez for Faculty/Staff Achievement\n\n$35 General Admis
 sion\, $25 for Members\nALL FUNDS BENEFIT STUDENT SCHOLARSHIP FUND\nFree f
 or Current Students / Suggested Donation for Faculty\n\nRegister
CATEGORIES:Special Events
LOCATION:Spitzer School Roof\, 141 Convent Avenue\, New York\, NY\, 10031\,
  United States
GEO:40.8177595;-73.95047339999996
X-APPLE-STRUCTURED-LOCATION;VALUE=URI;X-ADDRESS=141 Convent Avenue\, New Yo
 rk\, NY\, 10031\, United States;X-APPLE-RADIUS=100;X-TITLE=Spitzer School 
 Roof:geo:40.8177595,-73.95047339999996
END:VEVENT
BEGIN:VTIMEZONE
TZID:America/New_York
X-LIC-LOCATION:America/New_York
BEGIN:DAYLIGHT
DTSTART:20170312T030000
TZOFFSETFROM:-0500
TZOFFSETTO:-0400
TZNAME:EDT
END:DAYLIGHT
END:VTIMEZONE
END:VCALENDAR