BEGIN:VCALENDAR
VERSION:2.0
PRODID:-//wp-events-plugin.com//7.2.3.1//EN
TZID:America/New_York
X-WR-TIMEZONE:America/New_York
BEGIN:VEVENT
UID:628@ssa.ccny.cuny.edu
DTSTART;TZID=America/New_York:20230920T123000
DTEND;TZID=America/New_York:20230920T133000
DTSTAMP:20230906T165223Z
URL:https://ssa.ccny.cuny.edu/events/ccny-x-endeavour-lunch-learn1/
SUMMARY:CCNY x Endeavour Lunch & Learn: September 20\, 2023
DESCRIPTION:\n\n\nEndeavour Platform Overview\, Leading the Charge in Susta
 inable Infrastructure\n\nThis session is important for anyone who wishes t
 o attend either of the following “Deep Dive” sessions. This session wi
 ll provide an overview of Endeavour's technology stack and how all our tec
 hnologies work together\, enabling us to take data center infrastructure t
 o the next level. Additionally\, we will touch on where Edged is building 
 around the globe and our modular/pod design to help connect communities in
  the most remote locations.\n\nChristian Blomdahl - Director of Product Ac
 celeration\, Endeavour\nLincoln Wood - Platform Director of Edged Modular\
 , Edged\n\nRegistration is available here.\n\n\n
CATEGORIES:Events
LOCATION:Bernard and Anne Spitzer School of Architecture\, 141 Convent Aven
 ue\, New York\, NY\, 10031\, United States
GEO:40.8177595;-73.95047339999996
X-APPLE-STRUCTURED-LOCATION;VALUE=URI;X-ADDRESS=141 Convent Avenue\, New Yo
 rk\, NY\, 10031\, United States;X-APPLE-RADIUS=100;X-TITLE=Bernard and Ann
 e Spitzer School of Architecture:geo:40.8177595,-73.95047339999996
END:VEVENT
BEGIN:VTIMEZONE
TZID:America/New_York
X-LIC-LOCATION:America/New_York
BEGIN:DAYLIGHT
DTSTART:20230312T030000
TZOFFSETFROM:-0500
TZOFFSETTO:-0400
TZNAME:EDT
END:DAYLIGHT
END:VTIMEZONE
END:VCALENDAR