BEGIN:VCALENDAR
VERSION:2.0
PRODID:-//wp-events-plugin.com//7.2.3.1//EN
TZID:America/New_York
X-WR-TIMEZONE:America/New_York
BEGIN:VEVENT
UID:774@ssa.ccny.cuny.edu
DTSTART;TZID=America/New_York:20260316T160000
DTEND;TZID=America/New_York:20260316T200000
DTSTAMP:20260303T211852Z
URL:https://ssa.ccny.cuny.edu/events/concrete-masonry-forum/
SUMMARY:Concrete Masonry Forum
DESCRIPTION:Spitzer School of Architecture\n141 Convent Ave\, New York\, NY
  10031\n\n\nPlease register here.\n\n\n\n\n\n\n
CATEGORIES:Events
END:VEVENT
BEGIN:VTIMEZONE
TZID:America/New_York
X-LIC-LOCATION:America/New_York
BEGIN:DAYLIGHT
DTSTART:20260308T030000
TZOFFSETFROM:-0500
TZOFFSETTO:-0400
TZNAME:EDT
END:DAYLIGHT
END:VTIMEZONE
END:VCALENDAR