BEGIN:VCALENDAR
VERSION:2.0
PRODID:-//wp-events-plugin.com//7.2.3.1//EN
TZID:America/New_York
X-WR-TIMEZONE:America/New_York
BEGIN:VEVENT
UID:167@ssa.ccny.cuny.edu
DTSTART;TZID=America/New_York:20171220T180000
DTEND;TZID=America/New_York:20171220T200000
DTSTAMP:20171208T151838Z
URL:https://ssa.ccny.cuny.edu/events/exhibit-opening-five-artists-architec
 ture/
SUMMARY:Exhibit Opening – Five Artists + Architecture
DESCRIPTION:Opening reception for Five Artists + Architecture exhibition f
 eaturing the work of Spitzer School faculty Alan Feigenberg\, Daniel Haube
 n\, David Judelson\, Irma Ostroff\, and Albert Vecerka. Curated by Profess
 or Lance Jay Brown FAIA.\n\nFree and open to the public\n\nRemarks: Jerr
 ilynn Dodds\, Sarah Lawrence professor and Metropolitan Museum of Art lec
 turer\n\nOpening reception sponsored by: Architecture Alumni Group\n\nExhi
 bit runs December 21-February 16\, free of charge\, 9:00 a.m.-5:00 p.m. we
 ekdays excluding holidays. 
CATEGORIES:Events,Special Events
LOCATION:Bernard and Anne Spitzer School of Architecture\, 141 Convent Aven
 ue\, New York\, NY\, 10031\, United States
GEO:40.8177595;-73.95047339999996
X-APPLE-STRUCTURED-LOCATION;VALUE=URI;X-ADDRESS=141 Convent Avenue\, New Yo
 rk\, NY\, 10031\, United States;X-APPLE-RADIUS=100;X-TITLE=Bernard and Ann
 e Spitzer School of Architecture:geo:40.8177595,-73.95047339999996
END:VEVENT
BEGIN:VTIMEZONE
TZID:America/New_York
X-LIC-LOCATION:America/New_York
BEGIN:STANDARD
DTSTART:20171105T010000
TZOFFSETFROM:-0400
TZOFFSETTO:-0500
TZNAME:EST
END:STANDARD
END:VTIMEZONE
END:VCALENDAR