BEGIN:VCALENDAR
VERSION:2.0
PRODID:-//wp-events-plugin.com//7.2.3.1//EN
TZID:America/New_York
X-WR-TIMEZONE:America/New_York
BEGIN:VEVENT
UID:414@ssa.ccny.cuny.edu
DTSTART;TZID=America/New_York:20201203T130000
DTEND;TZID=America/New_York:20201209T180000
DTSTAMP:20201209T194020Z
URL:https://ssa.ccny.cuny.edu/events/fall-2020-final-reviews/
SUMMARY:Fall 2020 Final Reviews
DESCRIPTION:&nbsp\;\n\nSome are open to the public on Zoom\, with details b
 elow. To drop in on any other review\, contact the faculty for specifics.\
 n\n&nbsp\;\n\nThursday\, December 3 @ 1\n  \n\n\nStudio\nStudio Professor\
 n\n\nB Arch 2nd Year\nLeadon\n\n\nB Arch 2nd Year\nCollins\n\n\nB Arch 2nd
  Year\nDotan\n\n\nB Arch 2nd Year\nKirsimagi\n\n\n\n&nbsp\;\n\nFriday\, De
 c 4 @ 1\n  \n\n\nStudio\nStudio Professor\n\n\nB Arch 3rd Year\nVolkmann\n
 \n\nB Arch 3rd Year\nAlspector\n\n\nB Arch 3rd Year\nCunningham\n\n\nB Arc
 h 3rd Year\nJosaphat\n\n\n\n&nbsp\;\n\nMonday\, December 7\n\n\n\nStudio\n
 Studio Professor\n\n\nAdvanced Studio (B Arch 4th &amp\; 5th year)\n10 am\
 nAydogan\n\n\nAdvanced Studio (B Arch 4th &amp\; 5th year)\n1 pm\nGalili\n
 \n\nAdvanced Studio (B Arch4th &amp\; 5th year)\n1 pm\nHocek\n\n\nFoundati
 on Unit 20 (M Arch 1st year)\n1 pm\nLlonch/Edminston\n\n\nFoundation Unit 
 21 (M Arch 1st year)\n1 pm\nHarkema/Grosman\n\n\nFoundation Unit 22 (MLA 1
 st year)\n12:30 pm\nAndrea Johnson/Hopper\n\n\n\n\nTuesday\, December 8\n\
 n\n\nStudio\nStudio Professor\n\n\nB Arch 1st Year\n1 pm\nJason Kim/Vien\n
 \n\nB Arch 1st Year\n1 pm\nJane Kim/Buccellato\n\n\nB Arch 1st Year\n1 pm\
 nRoberson/Keith\n\n\nB Arch 1st Year\n1 pm\nRuppert/Melendez\n\n\nUnit 25 
 (M Arch 2nd &amp\; 3rd year)\n1 pm\nBagchee/Rao/Losi\n\n\nUnit 26 (M Arch 
 2nd &amp\; 3rd year + UD)\n1 pm\nBailey/Rickenbacker/Freeman\n\n\nUnit 27 
 (MLA 2nd &amp\; 3rd year\, MS Arch\, + M Arch 3rd year)\n12 pm\nSeavitt/Ho
 we/Tantala/King\n\n\n\n\nWednesday\, December 9th\n\n\n\nStudio\nStudio Pr
 ofessor\n\n\nAdvanced Studio (B Arch 4th &amp\; 5th year)\n1 pm\nSalacedo\
 n\n\nAdvanced Studio (B Arch 4th &amp\; 5th year)\n1 pm\nStigsgaard\n\n\nA
 dvanced Studio (B Arch 4th &amp\; 5th year)\n1 pm\nWines\nZoom link here\n
 \n\nAdvanced Studio (B Arch 4th &amp\; 5th year)\n12 pm\nBrahmbhatt\nZoom 
 link here\n\n\nUnit 23 (M Arch 2nd &amp\; 3rd year)\n1 pm\nTerragni/Bokov/
 Bancel\n\n\nUnit 24 (M Arch 2nd &amp\; 3rd year)\n1 pm\nSquire/Haferd\n\n\
 nUnit 28 (MLA 2nd &amp\; 3rd year\, MS Arch\, + M Arch 3rd year)\n1 pm\nHo
 ffman Brandt/Facella/ Tantala/King\n\n\n\n&nbsp\;
CATEGORIES:Events
END:VEVENT
BEGIN:VTIMEZONE
TZID:America/New_York
X-LIC-LOCATION:America/New_York
BEGIN:STANDARD
DTSTART:20201101T010000
TZOFFSETFROM:-0400
TZOFFSETTO:-0500
TZNAME:EST
END:STANDARD
END:VTIMEZONE
END:VCALENDAR