BEGIN:VCALENDAR
VERSION:2.0
PRODID:-//wp-events-plugin.com//7.2.3.1//EN
TZID:America/New_York
X-WR-TIMEZONE:America/New_York
BEGIN:VEVENT
UID:372@ssa.ccny.cuny.edu
DTSTART;TZID=America/New_York:20200914T173000
DTEND;TZID=America/New_York:20200914T190000
DTSTAMP:20200908T155503Z
URL:https://ssa.ccny.cuny.edu/events/fall-2020-sciame-series-teresa-moller
 /
SUMMARY:Fall 2020 Sciame Series: Teresa Moller
DESCRIPTION:\n\n&nbsp\;\n\nPlease join us for the new SCIAME Global Spotlig
 ht Lecture Series\, titled Far South. Curated by Associate Professor Fabia
 n Llonch the series features prominent architects from South America who w
 ill discuss their work and the unique political and environmental challeng
 es they face. The second lecture of this series\, "WHY. Design Fundamental
 s in Nature\," will be presented by Teresa Moller\, a renowned self-taught
  landscape architect from Chile\, who has worked in the field for 30 years
  on projects throughout a broad range of scales. An introduction will be l
 ed by Catherine Seavitt Nordenson.\n\n&nbsp\;\n\nTo join the event\, pleas
 e follow the Zoom link here.\n\n&nbsp\;\n\nMoller's approach to her work i
 s very unique -- careful observation and awareness of the landscape is key
  in developing her successful social-culture projects. Essential within he
 r philosophy is making the natural environment accessible people so they c
 an connect and value nature around them. Believing strongly in the power o
 f simplicity\, she considers what is on site to be of utmost importance be
 fore starting a design\, beginning with what exists before moving on to wh
 at is needed in order to bring the experience of nature closer to people.\
 n\n&nbsp\;\n\nWedged between the Pacific Ocean to the west and the Andes m
 ountain range to the east\, Chile is a linear country of 4\,270 km that gr
 eatly benefits from such contrasting landscapes and offers remarkable natu
 ral resources. Moller prides herself in being able to work with such a div
 ersity of landscapes\, from the Atacama Desert in the north to the lakes a
 nd glaciers of the south. These have been the settings for the majority of
  her projects\, and have therefore been her teachers. For Moller\, every p
 roject is a direct and unique result of its environment.\n\n&nbsp\;\n\nLec
 ture series sponsored by Sciame . . . Where Building Is an Art
CATEGORIES:Events,Lectures,Sciame Lectures
END:VEVENT
BEGIN:VTIMEZONE
TZID:America/New_York
X-LIC-LOCATION:America/New_York
BEGIN:DAYLIGHT
DTSTART:20200308T030000
TZOFFSETFROM:-0500
TZOFFSETTO:-0400
TZNAME:EDT
END:DAYLIGHT
END:VTIMEZONE
END:VCALENDAR