BEGIN:VCALENDAR
VERSION:2.0
PRODID:-//wp-events-plugin.com//7.2.3.1//EN
TZID:America/New_York
X-WR-TIMEZONE:America/New_York
BEGIN:VEVENT
UID:201@ssa.ccny.cuny.edu
DTSTART;TZID=America/New_York:20180510T100000
DTEND;TZID=America/New_York:20180516T180000
DTSTAMP:20180514T143257Z
URL:https://ssa.ccny.cuny.edu/events/final-reviews/
SUMMARY:Spring 2018 Final Reviews
DESCRIPTION:Final Reviews are open to the public and run until approximatel
 y 6:00 p.m. each day at the Spitzer School unless otherwise noted.\n\nThur
 sday\, May 10: B Arch first-year\, B Arch second-year\nFriday\, May 11: M 
 Arch first-year\, M Arch second-year\, MLA first-year\nMonday\, May 14: M 
 Arch first-year\, B Arch third-year\, MLA second-year\, B Arch and M Arch 
 Advanced Studios*\nTuesday\, May 15: MLA third-year\, B Arch and M Arch Ad
 vanced Studios*\nWednesday\, May 16: Urban Design\, B Arch and M Arch Adva
 nced Studios*\n\nThursday\, May 10\n   \n\n\nStudio\nStudio Professor\nSta
 rt Time \n\n\nB Arch first-year\nFrank Melendez\n1:00pm\n\n\nB Arch first
 -year\nSuzan Wines\n1:00pm\n\n\nB Arch first-year\nRobin Elmslie Osler\n1:
 00pm\n\n\nB Arch first-year\nPaul Ruppert\n1:00pm\n\n\nB Arch first-year\n
 Jason Joon Kim\n1:00pm\n\n\nB Arch second year\nNandini Bagchee\n2:00pm\n\
 n\nB Arch second year\nAlberto Foyo\n1:00pm\n\n\nB Arch second year\nJane 
 Kim\n1:00pm\n\n\nB Arch second year\nJacob Alspector\n1:00pm\n\n\n\n&nbsp\
 ;\n\nFriday May 11\n   \n\n\nStudio\nStudio Professor\nStart Time \n\n\nM
  Arch I first-year\nElisabetta Terragni\n1:00pm\n\n\nM Arch I second-year\
 nAli C. Hocek\n12:00pm at the Brownsville Community Culinary Center\, 69 B
 elmont Ave.\, Brooklyn\, NY\n\n\nMLA  first- year\nDenise Hoffman-Brandt\
 n1:00pm\n\n\n\n&nbsp\;\n\nMonday\, May 14\n   \n\n\nStudio\nStudio Profess
 or\nStart Time \n\n\nM Arch I first-year\nBradley Horn\n12:00pm\n\n\nB Ar
 ch third-year\nMartin Stigsgaard\n1:00pm\n\n\nB Arch third-year\nPhillip L
 ee\n1:00pm\n\n\nB Arch third-year\nHenry Grosman\n1:00pm\n\n\nB Arch third
 -year\nTimothy Collins\n1:00pm\n\n\nMLA second-year\nPeter Gisolfi\, Andre
 w Lavallee\n1:00pm\n\n\nAdvanced Studio*\nInaqui Carnicero\n10:00am\n\n\n\
 n&nbsp\;\n\nTuesday\, May 15\n   \n\n\nStudio\nStudio Professor\nStart Tim
 e\n\n\nMLA third-year\nCatherine Seavitt Nordenson\, Matthew Seibert\n10:0
 0am\n\n\nAdvanced Studio*\nJulio Salcedo-Fernandez\n1:00pm\n\n\nAdvanced S
 tudio*\nJeremy Edmiston\n1:00pm\n\n\nAdvanced Studio*\nChristian Volkmann\
 n1:00pm\n\n\nAdvanced Studio*\nFabian Llonch\n10:00am\n\n\nAdvanced Studio
 *\nLoukia Tsafoulia\n1:00pm\n\n\n\n&nbsp\;\n\nWednesday\, May 16\n   \n\n\
 nStudio\nStudio Professor\nStart Time\n\n\nUrban Design\nMichael Sorkin\n1
 :00pm\n\n\nB Arch second-year\nMarina Correia\n10:00am\n\n\nAdvanced Studi
 o*\nSrdjan Jovanovic Weiss\n2:00pm\n\n\nAdvanced Studio*\n June Williamson
 \n1:00pm\n\n\nAdvanced Studio*\nQuardean Lewis-Allen\n1:00pm\n\n\nAdvanced
  Studio*\nIvan Rupnik\n1:00pm\n\n\n\n&nbsp\;\n\n*Advanced Studios may incl
 ude students from B Arch fourth- and fifth-year\, M Arch I third-year\, an
 d M Arch II.
CATEGORIES:Events,Special Events
LOCATION:Bernard and Anne Spitzer School of Architecture\, 141 Convent Aven
 ue\, New York\, NY\, 10031\, United States
GEO:40.8177595;-73.95047339999996
X-APPLE-STRUCTURED-LOCATION;VALUE=URI;X-ADDRESS=141 Convent Avenue\, New Yo
 rk\, NY\, 10031\, United States;X-APPLE-RADIUS=100;X-TITLE=Bernard and Ann
 e Spitzer School of Architecture:geo:40.8177595,-73.95047339999996
END:VEVENT
BEGIN:VTIMEZONE
TZID:America/New_York
X-LIC-LOCATION:America/New_York
BEGIN:DAYLIGHT
DTSTART:20180311T030000
TZOFFSETFROM:-0500
TZOFFSETTO:-0400
TZNAME:EDT
END:DAYLIGHT
END:VTIMEZONE
END:VCALENDAR