BEGIN:VCALENDAR
VERSION:2.0
PRODID:-//wp-events-plugin.com//7.2.3.1//EN
TZID:America/New_York
X-WR-TIMEZONE:America/New_York
BEGIN:VEVENT
UID:624@ssa.ccny.cuny.edu
DTSTART;TZID=America/New_York:20231031T150000
DTEND;TZID=America/New_York:20231031T154500
DTSTAMP:20230907T155615Z
URL:https://ssa.ccny.cuny.edu/events/graduate-admissions-live-chat-qa-14/
SUMMARY:Graduate Admissions Live Chat Q&A
DESCRIPTION:\n\n\n\n\n\n\nZoom registration is required.\n\nDo you have que
 stions about the graduate application process (M Arch\, MLA\, MUP - Urban 
 Design\, MS Arch)? Want to connect with other applicants? Swing by a Zoom 
 session to say hello and get answers from admissions staff.\nSee also:\nAp
 plication Instructions\nInternational Applicants - Additional Instructions
 \nInfo Sessions and Virtual Tours\n\n\n\n\n\n\n\n\n\n\n\n\n\n\n\n\n\n
CATEGORIES:Events,Grad Info Sessions,Info Sessions
END:VEVENT
BEGIN:VTIMEZONE
TZID:America/New_York
X-LIC-LOCATION:America/New_York
BEGIN:DAYLIGHT
DTSTART:20230312T030000
TZOFFSETFROM:-0500
TZOFFSETTO:-0400
TZNAME:EDT
END:DAYLIGHT
END:VTIMEZONE
END:VCALENDAR