BEGIN:VCALENDAR
VERSION:2.0
PRODID:-//wp-events-plugin.com//7.2.3.1//EN
TZID:America/New_York
X-WR-TIMEZONE:America/New_York
BEGIN:VEVENT
UID:416@ssa.ccny.cuny.edu
DTSTART;TZID=America/New_York:20201228T150000
DTEND;TZID=America/New_York:20201228T160000
DTSTAMP:20211213T155630Z
URL:https://ssa.ccny.cuny.edu/events/graduate-admissions-live-chat-qa-5/
SUMMARY:Graduate Admissions Live Chat Q&A
DESCRIPTION:\n\n\n\n\n\n\nZoom registration is required. Please register fo
 r the event here.\nDo you have questions about the graduate application pr
 ocess (M Arch\, MLA\, MUP - Urban Design\, MS Arch)? Want to connect with 
 other applicants? Swing by a Zoom session to say hello and get answers fro
 m admissions staff.\nSee also:\nApplication Instructions\nInternational Ap
 plicants - Additional Instructions\nInfo Sessions and Virtual Tours\n\n\n\
 n\n\n\n\n\n\n\n\n\n\n\n\n\n\n
CATEGORIES:Events,Grad Info Sessions,Info Sessions
END:VEVENT
BEGIN:VTIMEZONE
TZID:America/New_York
X-LIC-LOCATION:America/New_York
BEGIN:STANDARD
DTSTART:20201101T010000
TZOFFSETFROM:-0400
TZOFFSETTO:-0500
TZNAME:EST
END:STANDARD
END:VTIMEZONE
END:VCALENDAR