BEGIN:VCALENDAR
VERSION:2.0
PRODID:-//wp-events-plugin.com//7.2.3.1//EN
TZID:America/New_York
X-WR-TIMEZONE:America/New_York
BEGIN:VEVENT
UID:139@ssa.ccny.cuny.edu
DTSTART;TZID=America/New_York:20170926T090000
DTEND;TZID=America/New_York:20171122T170000
DTSTAMP:20170918T150755Z
URL:https://ssa.ccny.cuny.edu/events/harry-seidler-exhibit/
SUMMARY:Harry Seidler: Painting Toward Architecture
DESCRIPTION:Painting Toward Architecture traveling exhibition traces the wo
 rk of Australia’s most prominent architect of the 20th century\, Harry S
 eidler (1923-2006)\; it examines his distinctive place and hand within and
  beyond modernist design methodology.
CATEGORIES:Exhibits
LOCATION:Bernard and Anne Spitzer School of Architecture\, 141 Convent Aven
 ue\, New York\, NY\, 10031\, United States
GEO:40.8177595;-73.95047339999996
X-APPLE-STRUCTURED-LOCATION;VALUE=URI;X-ADDRESS=141 Convent Avenue\, New Yo
 rk\, NY\, 10031\, United States;X-APPLE-RADIUS=100;X-TITLE=Bernard and Ann
 e Spitzer School of Architecture:geo:40.8177595,-73.95047339999996
END:VEVENT
BEGIN:VTIMEZONE
TZID:America/New_York
X-LIC-LOCATION:America/New_York
BEGIN:DAYLIGHT
DTSTART:20170312T030000
TZOFFSETFROM:-0500
TZOFFSETTO:-0400
TZNAME:EDT
END:DAYLIGHT
BEGIN:STANDARD
DTSTART:20171105T010000
TZOFFSETFROM:-0400
TZOFFSETTO:-0500
TZNAME:EST
END:STANDARD
END:VTIMEZONE
END:VCALENDAR