BEGIN:VCALENDAR
VERSION:2.0
PRODID:-//wp-events-plugin.com//7.2.3.1//EN
TZID:America/New_York
X-WR-TIMEZONE:America/New_York
BEGIN:VEVENT
UID:140@ssa.ccny.cuny.edu
DTSTART;TZID=America/New_York:20170828T180000
DTEND;TZID=America/New_York:20170828T200000
DTSTAMP:20170823T160941Z
URL:https://ssa.ccny.cuny.edu/events/mla-mixer/
SUMMARY:MLA Mixer
DESCRIPTION:Hosted by: ASLA-NY Student Chapter\n\nMaster of Landscape Archi
 tecture mixer up top on Spitzer's roof right after studio. Light food and 
 drinks will be served. Some mixer games like trivia and prizes. Oy. Also w
 e should probably say\, this mixer is a good way to meet each other\, make
  new friends\, learn new things\, and potentially collaborate! Oh\, and i
 f it's bad weather\, back-up location is in the J. Max Bond Center. Cheers
 .
CATEGORIES:Special Events
LOCATION:Bernard and Anne Spitzer School of Architecture\, 141 Convent Aven
 ue\, New York\, NY\, 10031\, United States
GEO:40.8177595;-73.95047339999996
X-APPLE-STRUCTURED-LOCATION;VALUE=URI;X-ADDRESS=141 Convent Avenue\, New Yo
 rk\, NY\, 10031\, United States;X-APPLE-RADIUS=100;X-TITLE=Bernard and Ann
 e Spitzer School of Architecture:geo:40.8177595,-73.95047339999996
END:VEVENT
BEGIN:VTIMEZONE
TZID:America/New_York
X-LIC-LOCATION:America/New_York
BEGIN:DAYLIGHT
DTSTART:20170312T030000
TZOFFSETFROM:-0500
TZOFFSETTO:-0400
TZNAME:EDT
END:DAYLIGHT
END:VTIMEZONE
END:VCALENDAR