BEGIN:VCALENDAR
VERSION:2.0
PRODID:-//wp-events-plugin.com//7.2.3.1//EN
TZID:America/New_York
X-WR-TIMEZONE:America/New_York
BEGIN:VEVENT
UID:190@ssa.ccny.cuny.edu
DTSTART;TZID=America/New_York:20180215T180000
DTEND;TZID=America/New_York:20180215T200000
DTSTAMP:20180209T212505Z
URL:https://ssa.ccny.cuny.edu/events/mla-portfolio-review/
SUMMARY:MLA Portfolio Review
DESCRIPTION:Just in time for the Career Fair\,  the ASLAS NY student chapt
 er has organized a portfolio review for MLA students with CCNY alumni\, pr
 ofessors\, and professionals from the New York area as guest critics. The 
 critic team will include representatives from SCAPE\, Nelson Byrd Woltz\, 
 City of New York Parks &amp\; Recreation\, Hollander Design\, Hargreaves\,
  AECOM\, and more!\n\nThis is a chance to practice your interviewing skill
 s and "elevator pitch\," the 2-3 sentence explanation of what your career 
 goals and interest are. If you are looking for a job or internship\, this 
 is great networking opportunity as well. Don't miss it! Remember to bring 
 your portfolio\, work samples\, and/or resume! Sign up for 10-minute sessi
 ons with each critic at the beginning of the event.
CATEGORIES:Events,Special Events
LOCATION:Bernard and Anne Spitzer School of Architecture\, 141 Convent Aven
 ue\, New York\, NY\, 10031\, United States
GEO:40.8177595;-73.95047339999996
X-APPLE-STRUCTURED-LOCATION;VALUE=URI;X-ADDRESS=141 Convent Avenue\, New Yo
 rk\, NY\, 10031\, United States;X-APPLE-RADIUS=100;X-TITLE=Bernard and Ann
 e Spitzer School of Architecture:geo:40.8177595,-73.95047339999996
END:VEVENT
BEGIN:VTIMEZONE
TZID:America/New_York
X-LIC-LOCATION:America/New_York
BEGIN:STANDARD
DTSTART:20171105T010000
TZOFFSETFROM:-0400
TZOFFSETTO:-0500
TZNAME:EST
END:STANDARD
END:VTIMEZONE
END:VCALENDAR