BEGIN:VCALENDAR
VERSION:2.0
PRODID:-//wp-events-plugin.com//7.2.3.1//EN
TZID:America/New_York
X-WR-TIMEZONE:America/New_York
BEGIN:VEVENT
UID:281@ssa.ccny.cuny.edu
DTSTART;TZID=America/New_York:20191104T173000
DTEND;TZID=America/New_York:20191104T200000
DTSTAMP:20191021T173750Z
URL:https://ssa.ccny.cuny.edu/events/ms-architecture-info-session/
SUMMARY:MS Architecture Info Session
DESCRIPTION:Tour: 5:30 p.m.\nInfo Session: 6:30-8:00 p.m.\n\nLearn about t
 he Spitzer School’s MS Architecture post-professional degree program\, w
 hich is open to students who already hold a professional degree in archite
 cture. This evening event will include studio visits and an info session +
  Q&amp\;A with faculty\, students\, and alumni.\n\nSpeakers:\n\n 	Brad Hor
 n\, Architecture Graduate Program Director\n 	Gabriel Morales '18\n 	Rei C
 elo '20\n 	Hannah Borgeson\, Director of Graduate Affairs\n 	Other faculty
 \, alumni\, and student speakers TBA\n\nThe MS Arch program is directed at
  students who wish to deepen their design abilities and expand their knowl
 edge of contemporary theory\, technology\, and environmental systems. The 
 three studios in the sequence — which can be completed in one calendar y
 ear or spread out over a longer period — provide in-depth studies of arc
 hitectural problems that seek to integrate the forms\, ideas\, and technol
 ogies that anticipate construction. Projects may also explore the far boun
 daries of the discipline of architecture\, participating in the research b
 ehind its continuing reinvention.\n\nStudents have the opportunity to take
  a number of elective courses and pursue independent study coursework and 
 teaching opportunities in areas of their own special interest. These may b
 e selected from programs of the Spitzer School as well as from other City 
 University of New York institutions\, including the Graduate Center. Stude
 nts are strongly encouraged to seek these points of conjuncture between ar
 chitecture and related disciplines that are most meaningful to their indiv
 idual development as practitioners.\n\n[gravityform id="43" title="true" d
 escription="true"]\n\n[insta-gallery id="4"]\n\n&nbsp\;
CATEGORIES:Grad Info Sessions,Special Events
LOCATION:Bernard and Anne Spitzer School of Architecture\, 141 Convent Aven
 ue\, New York\, NY\, 10031\, United States
GEO:40.8177595;-73.95047339999996
X-APPLE-STRUCTURED-LOCATION;VALUE=URI;X-ADDRESS=141 Convent Avenue\, New Yo
 rk\, NY\, 10031\, United States;X-APPLE-RADIUS=100;X-TITLE=Bernard and Ann
 e Spitzer School of Architecture:geo:40.8177595,-73.95047339999996
END:VEVENT
BEGIN:VTIMEZONE
TZID:America/New_York
X-LIC-LOCATION:America/New_York
BEGIN:STANDARD
DTSTART:20191103T010000
TZOFFSETFROM:-0400
TZOFFSETTO:-0500
TZNAME:EST
END:STANDARD
END:VTIMEZONE
END:VCALENDAR