BEGIN:VCALENDAR
VERSION:2.0
PRODID:-//wp-events-plugin.com//7.2.3.1//EN
TZID:America/New_York
X-WR-TIMEZONE:America/New_York
BEGIN:VEVENT
UID:101@ssa.ccny.cuny.edu
DTSTART;TZID=America/New_York:20170406T183000
DTEND;TZID=America/New_York:20170406T200000
DTSTAMP:20170719T195522Z
URL:https://ssa.ccny.cuny.edu/events/neil-spiller/
SUMMARY:Neil Spiller
DESCRIPTION:Introduction: Michael Sorkin\n\nNeil Spiller is Hawksmoor Chair
  of Architecture and Landscape and Deputy Pro Vice-Chancellor of the Unive
 rsity of Greenwich\, London prior to this he was Dean of the School of Arc
 hitecture\, Design and Construction and Professor of Architecture and Digi
 tal Theory at Greenwich University.  Before this he was Vice-Dean and Gra
 duate Director of Design at the Bartlett School of Architecture\, Universi
 ty College London.\n\nHe guest edited his first AD\, Architects in Cybersp
 ace in 1995 (with Martin Pearce) followed in 1996 by Integrating Architect
 ure (1996)\, Architects in Cyberspace II (1998)\, Young Blood (2000)\, Ref
 lexive Architecture (2002)\, Protocell Architecture with Rachel Armstrong 
 (2010) and Drawing Architecture (2013).  Neil’s numerous books include 
 Cyberreader: Critical Writings of the Digital Era (2002)\, Digital Dream
 s - The Architecture of the New Alchemic Technologies (1998) and Visionar
 y Architecture – Blueprints of the Modern Imagination (2006).  He is o
 n the AD editorial Board. He is internationally renowned for his drawn arc
 hitectural design work which has been published and exhibited on many occa
 sions worldwide and is in many collections. Since 1998\, he has produced t
 he epic COMMUNICATING VESSELS project. His new book Surrealism and Archite
 cture: A Blistering Romance was published in October 2016 by Thames and H
 udson.\n\n&nbsp\;\n\nAll lectures are free\, open to the public\, and held
  at 6:30 pm in the Bernard and Anne Spitzer School of Architecture Sciame 
 Auditorium. Continuing Education Credit for registered New York architects
  is available.\n\nLecture series sponsored by Sciame . . . Where Building 
 Is an Art.
ATTACH;FMTTYPE=image/jpeg:https://ssa.ccny.cuny.edu/wp-content/uploads/201
 7/01/Neil-Spillero_small.jpg
CATEGORIES:Lectures
LOCATION:Sciame Auditorium (Room 107)\, 141 Convent Avenue\, New York\, NY\
 , 10031\, United States
GEO:40.8177595;-73.95047339999996
X-APPLE-STRUCTURED-LOCATION;VALUE=URI;X-ADDRESS=141 Convent Avenue\, New Yo
 rk\, NY\, 10031\, United States;X-APPLE-RADIUS=100;X-TITLE=Sciame Auditori
 um (Room 107):geo:40.8177595,-73.95047339999996
END:VEVENT
BEGIN:VTIMEZONE
TZID:America/New_York
X-LIC-LOCATION:America/New_York
BEGIN:DAYLIGHT
DTSTART:20170312T030000
TZOFFSETFROM:-0500
TZOFFSETTO:-0400
TZNAME:EDT
END:DAYLIGHT
END:VTIMEZONE
END:VCALENDAR