BEGIN:VCALENDAR
VERSION:2.0
PRODID:-//wp-events-plugin.com//7.2.3.1//EN
TZID:America/New_York
X-WR-TIMEZONE:America/New_York
BEGIN:VEVENT
UID:59@ssa.ccny.cuny.edu
DTSTART;TZID=America/New_York:20160516T183000
DTEND;TZID=America/New_York:20160516T200000
DTSTAMP:20170705T151739Z
URL:https://ssa.ccny.cuny.edu/events/norwegian-would/
SUMMARY:Norwegian Would
DESCRIPTION:Free and open to the public\n\nModerated by: Lance Jay Brown\, 
 FAIA &amp\; ACSA Distinguished Professor of Architecture\n\nReiulf Ramstad
 \, newly inducted 2016 Honorary Fellow of the America Institute of Archite
 cts (AIA)\, will discuss the greatest influences of his work. Ramstad is t
 he Design Director of the firm Reiulf Ramstad Arkitekter – RRA\, an 18-p
 erson firm located in Oslo\, Norway and Innsbruck\, Austria. RRA was selec
 ted by an international jury for the 2015 Architizer A+ Awards\, Firm of t
 he Year. RRA has earned a reputation for creating bold\, simple architectu
 re with a strong connection to the Scandinavian context and the impressive
  Scandinavian landscape in particular.\n\nIn 2004\, RRA won the competitio
 n for the Trollstigen Visitor Centre\, in Møre og Romsdal\, Norway. This 
 facility\, completed in 2012\, is one of the largest designs of the now fa
 mous Norwegian Tourist Route structures. It is set in a stunning natural e
 nvironment and provides a prime example of how the deep understanding of a
  place can lead to innovative modern architecture.
CATEGORIES:Lectures
LOCATION:Sciame Auditorium (Room 107)\, 141 Convent Avenue\, New York\, NY\
 , 10031\, United States
GEO:40.8177595;-73.95047339999996
X-APPLE-STRUCTURED-LOCATION;VALUE=URI;X-ADDRESS=141 Convent Avenue\, New Yo
 rk\, NY\, 10031\, United States;X-APPLE-RADIUS=100;X-TITLE=Sciame Auditori
 um (Room 107):geo:40.8177595,-73.95047339999996
END:VEVENT
BEGIN:VTIMEZONE
TZID:America/New_York
X-LIC-LOCATION:America/New_York
BEGIN:DAYLIGHT
DTSTART:20160313T030000
TZOFFSETFROM:-0500
TZOFFSETTO:-0400
TZNAME:EDT
END:DAYLIGHT
END:VTIMEZONE
END:VCALENDAR