BEGIN:VCALENDAR
VERSION:2.0
PRODID:-//wp-events-plugin.com//7.2.3.1//EN
TZID:America/New_York
X-WR-TIMEZONE:America/New_York
BEGIN:VEVENT
UID:116@ssa.ccny.cuny.edu
DTSTART;TZID=America/New_York:20160922T183000
DTEND;TZID=America/New_York:20160922T200000
DTSTAMP:20170706T142809Z
URL:https://ssa.ccny.cuny.edu/events/rustbelt-staged-reading/
SUMMARY:Rustbelt: Staged Reading
DESCRIPTION:Six actors will perform a staged reading of Rustbelt: 1984. A C
 ity in Crisis\, a new play by Damon Arrington MLA '16.\n\nRustbelt is a
  dark comedy set in 1984 that centers around an underground dance show in 
 the heart of the Rustbelt. A community is inspired to an uprising. This tw
 isted Erin Brockovich tale of environmental injustice challenges authority
  and questions the safety of our drinking water.\n\nMLA travel studio rese
 arch in 2015 to Detroit and subsequent thesis investigations in Chemical V
 alley\, West Virginia (both Rustbelt ecologies)\, have propelled this comm
 unity-driven research. Dramatic writing was conjured from a study of artif
 acts\, mesmerizing clips of a dance show in Detroit called The Scene promp
 ted a deeper study into systemic racism that transcended directly from the
  structures and policy placed on marginal\, red lined neighborhoods.\n\nTh
 e process of writing plays can be tedious and lengthy. Arrington's writin
 g has spanned more than one year. A Soho Rep workshop allowed him to hea
 r the play and begin to incorporate media elements including vintage foota
 ge into the piece. This reading will be the first time an audience has hea
 rd the play\, an exciting next step for the production.
CATEGORIES:Special Events
LOCATION:Sciame Auditorium (Room 107)\, 141 Convent Avenue\, New York\, NY\
 , 10031\, United States
GEO:40.8177595;-73.95047339999996
X-APPLE-STRUCTURED-LOCATION;VALUE=URI;X-ADDRESS=141 Convent Avenue\, New Yo
 rk\, NY\, 10031\, United States;X-APPLE-RADIUS=100;X-TITLE=Sciame Auditori
 um (Room 107):geo:40.8177595,-73.95047339999996
END:VEVENT
BEGIN:VTIMEZONE
TZID:America/New_York
X-LIC-LOCATION:America/New_York
BEGIN:DAYLIGHT
DTSTART:20160313T030000
TZOFFSETFROM:-0500
TZOFFSETTO:-0400
TZNAME:EDT
END:DAYLIGHT
END:VTIMEZONE
END:VCALENDAR