BEGIN:VCALENDAR
VERSION:2.0
PRODID:-//wp-events-plugin.com//7.2.3.1//EN
TZID:America/New_York
X-WR-TIMEZONE:America/New_York
BEGIN:VEVENT
UID:99@ssa.ccny.cuny.edu
DTSTART;TZID=America/New_York:20170309T123000
DTEND;TZID=America/New_York:20170309T133000
DTSTAMP:20170719T200841Z
URL:https://ssa.ccny.cuny.edu/events/ruth-berktold/
SUMMARY:Ruth Berktold
DESCRIPTION:Introduction: Loukia Tsafoulia\nRuth Berktold is founder and o
 wner of YES architecture\, an architecture firm based in Munich\, and New 
 York. Ruth Berktold holds a tenure professorship at the University of Appl
 ied Sciences in Munich since Sept. 2002. Her field of research is Architec
 tural Design and the Conceptual Approach to Computer-integrated Design. Sh
 e also taught at the NTNU Trondheim in Norway for several years. She lived
  in New York from Mai 1994 to Mai 2002. Before starting her own office she
  worked for Behnisch and Partner\, Stuttgart\, Prof. Eisele und Fritz\, Da
 rmstadt\, Bernard Tschumi\, Jim Polshek and Asymptote in New York and deal
 t with projects of different scales and designed international competition
 s for clients such as Daimler Chrysler and BMW. During this time she also 
 taught at RPI Rensselaer Polytechnic Institute\, NY and at Parsons School
  of Design\, NY. She has been an invited member of many juries at differen
 t universities as well as for architectural competitions and design awards
 . In December 2004 YES architecture was awarded the commission for the new
  UN-Campus in Bonn\, a 200 Mio. Euro structure named World Conference Cent
 er – Internationales Konferenzzentrum Bundeshaus Bonn. Ever since the of
 fice has designed and built Hotels\, Museums\, Offices\, Shopping Centers
 \, Stadiums and many other public building types.\n&nbsp\;\n\nAll lectures
  are free\, open to the public\, in the Bernard and Anne Spitzer School of
  Architecture Sciame Auditorium. Continuing Education Credit for registere
 d New York architects is available.\n\nLecture series sponsored by Sciame 
 . . . Where Building Is an Art.
ATTACH;FMTTYPE=image/jpeg:https://ssa.ccny.cuny.edu/wp-content/uploads/201
 7/01/Ruth-Beerktold_grayscale.jpg
CATEGORIES:Lectures
LOCATION:Sciame Auditorium (Room 107)\, 141 Convent Avenue\, New York\, NY\
 , 10031\, United States
GEO:40.8177595;-73.95047339999996
X-APPLE-STRUCTURED-LOCATION;VALUE=URI;X-ADDRESS=141 Convent Avenue\, New Yo
 rk\, NY\, 10031\, United States;X-APPLE-RADIUS=100;X-TITLE=Sciame Auditori
 um (Room 107):geo:40.8177595,-73.95047339999996
END:VEVENT
BEGIN:VTIMEZONE
TZID:America/New_York
X-LIC-LOCATION:America/New_York
BEGIN:STANDARD
DTSTART:20161106T010000
TZOFFSETFROM:-0400
TZOFFSETTO:-0500
TZNAME:EST
END:STANDARD
END:VTIMEZONE
END:VCALENDAR