BEGIN:VCALENDAR
VERSION:2.0
PRODID:-//wp-events-plugin.com//7.2.3.1//EN
TZID:America/New_York
X-WR-TIMEZONE:America/New_York
BEGIN:VEVENT
UID:499@ssa.ccny.cuny.edu
DTSTART;TZID=America/New_York;VALUE=DATE:20221020
DTEND;TZID=America/New_York;VALUE=DATE:20221023
DTSTAMP:20220824T124122Z
URL:https://ssa.ccny.cuny.edu/events/sacrph-conference/
SUMMARY:SACRPH Conference
DESCRIPTION:The Society for American City and Regional Planning History cor
 dially invites scholars and practitioners to present papers and talks on a
 ll aspects of urban\, regional\, and community planning history and their 
 relationship to urban and metropolitan studies. The conference will be hel
 d in multiple formats\, including: virtual presentations on Thursday\, Oct
 ober 20\, 2022\; in-person tours on Friday\, October 21\; and in-person pr
 esentations on Saturday\, October 22. It will also include an in-person ke
 ynote by Paul Farber on Thursday night. All Saturday events will take plac
 e in Harlem\, at the Bernard and Anne Spitzer School of Architecture on th
 e historic campus of The City College of New York.\n\nDetails and registra
 tion: https://sacrph.org/conference-2022
CATEGORIES:Special Events
END:VEVENT
BEGIN:VTIMEZONE
TZID:America/New_York
X-LIC-LOCATION:America/New_York
BEGIN:DAYLIGHT
DTSTART:20220313T030000
TZOFFSETFROM:-0500
TZOFFSETTO:-0400
TZNAME:EDT
END:DAYLIGHT
END:VTIMEZONE
END:VCALENDAR