BEGIN:VCALENDAR
VERSION:2.0
PRODID:-//wp-events-plugin.com//7.2.3.1//EN
TZID:America/New_York
X-WR-TIMEZONE:America/New_York
BEGIN:VEVENT
UID:42@ssa.ccny.cuny.edu
DTSTART;TZID=America/New_York:20160204T183000
DTEND;TZID=America/New_York:20160204T200000
DTSTAMP:20170705T002253Z
URL:https://ssa.ccny.cuny.edu/events/scalar-ecologies-form-as-unknown-x/
SUMMARY:SCALAR ECOLOGIES: Form as Unknown (X)
DESCRIPTION:Thursday\, February 4\, 2016\nIntroduction: Dominick Pilla\n\nH
 olger Schulze-Ehring applies his cross-disciplinary expertise in advanced 
 engineering and architecture to the design of unique\, inventive\, and com
 plex structures and award-winning projects. Uniting his strong technical a
 nd creative background he works as a structural designer with renowned arc
 hitects and artists on landmark cultural buildings\, transportation hubs\,
  bridges\, and art projects. His signature work includes the World EXPO Mi
 lano 2015 China Pavilion in Milan\, Italy\; World Trade Center Transportat
 ion Hub in New York\, NY\; Museu do Amanha in Rio de Janeiro\, Brazil\; De
 nver International Airport extension in Denver\, CO\; BBC Broadcasting Hou
 se in London\, England\; and Spire of Hope\, St. Anne’s Cathedral in Bel
 fast\, Ireland.\n\nApplying his training and research in both structural e
 ngineering and architecture\, he has been an adjunct professor\, guest lec
 turer\, critic\, and juror at numerous universities\, including Cornell Un
 iversity\, Columbia University\, Princeton University\, Manhattan College\
 , and University of Pennsylvania.\n\n&nbsp\;\n\nAll lectures are free\, op
 en to the public\, and held at 6:30 pm in the Bernard and Anne Spitzer Sch
 ool of Architecture Sciame Auditorium. Continuing Education Credit for reg
 istered New York architects is available.\nLecture series sponsored by Sci
 ame . . . Where Building Is an Art.
CATEGORIES:Lectures,Special Events
LOCATION:Sciame Auditorium (Room 107)\, 141 Convent Avenue\, New York\, NY\
 , 10031\, United States
GEO:40.8177595;-73.95047339999996
X-APPLE-STRUCTURED-LOCATION;VALUE=URI;X-ADDRESS=141 Convent Avenue\, New Yo
 rk\, NY\, 10031\, United States;X-APPLE-RADIUS=100;X-TITLE=Sciame Auditori
 um (Room 107):geo:40.8177595,-73.95047339999996
END:VEVENT
BEGIN:VTIMEZONE
TZID:America/New_York
X-LIC-LOCATION:America/New_York
BEGIN:STANDARD
DTSTART:20151101T010000
TZOFFSETFROM:-0400
TZOFFSETTO:-0500
TZNAME:EST
END:STANDARD
END:VTIMEZONE
END:VCALENDAR