BEGIN:VCALENDAR
VERSION:2.0
PRODID:-//wp-events-plugin.com//7.2.3.1//EN
TZID:America/New_York
X-WR-TIMEZONE:America/New_York
BEGIN:VEVENT
UID:225@ssa.ccny.cuny.edu
DTSTART;TZID=America/New_York:20181029T160000
DTEND;TZID=America/New_York:20181029T170000
DTSTAMP:20180925T132234Z
URL:https://ssa.ccny.cuny.edu/events/school-program-tour-october/
SUMMARY:School Program Tour - October
DESCRIPTION:Learn about the Spitzer School’s undergraduate and graduate p
 rograms. This tour will include the studios\, fabrication shop\, library\
 , and Solar Roofpod.\n\nMeet in lobby of the Spitzer School of Architectur
 e.\n\n[gravityform id="26" title="true" description="true"]
CATEGORIES:Grad Info Sessions,Info Sessions,Undergraduate Info Sessions
LOCATION:Bernard and Anne Spitzer School of Architecture\, 141 Convent Aven
 ue\, New York\, NY\, 10031\, United States
GEO:40.8177595;-73.95047339999996
X-APPLE-STRUCTURED-LOCATION;VALUE=URI;X-ADDRESS=141 Convent Avenue\, New Yo
 rk\, NY\, 10031\, United States;X-APPLE-RADIUS=100;X-TITLE=Bernard and Ann
 e Spitzer School of Architecture:geo:40.8177595,-73.95047339999996
END:VEVENT
BEGIN:VTIMEZONE
TZID:America/New_York
X-LIC-LOCATION:America/New_York
BEGIN:DAYLIGHT
DTSTART:20180311T030000
TZOFFSETFROM:-0500
TZOFFSETTO:-0400
TZNAME:EDT
END:DAYLIGHT
END:VTIMEZONE
END:VCALENDAR