BEGIN:VCALENDAR
VERSION:2.0
PRODID:-//wp-events-plugin.com//7.2.3.1//EN
TZID:America/New_York
X-WR-TIMEZONE:America/New_York
BEGIN:VEVENT
UID:319@ssa.ccny.cuny.edu
DTSTART;TZID=America/New_York:20200406T173000
DTEND;TZID=America/New_York:20200406T183000
DTSTAMP:20200407T185050Z
URL:https://ssa.ccny.cuny.edu/events/sciame-lecture-series-counterspace/
SUMMARY:Remote Zoom Lecture #1: Counterspace
DESCRIPTION:Counterspace are the winners of the 2020 Serpentine Pavilion co
 mpetition (now postponed)\, the youngest architects ever to win this prest
 igious award. Based in Johannesburg\, they are a collective studio of youn
 g architecture graduates established in 2014 by Sumayya Vally\, Sarah de V
 illiers\, and Amina Kaskar. All three combine teaching with practice\, tea
 ching at the Graduate School of Architecture (Vally\, de Villiers) and Wit
 s University (Kaskar). Their work is predominantly concerned with ideas of
  the future and of “otherness.” They are dedicated to research-based p
 rojects\, which take the form of exhibition design\, competitions\, urban 
 insurgency\, and public events.\n\nHosted by Lesley Lokko.\n\n&nbsp\;\n\nT
 his event will consist of a pre-recorded\, 45-minute video followed by a "
 live" Q&amp\;A with Counterspace. Zoom link: https://ccny.zoom.us/j/680517
 985 (meeting ID 680 517 985).\n\n&nbsp\;\n\n&nbsp\;
CATEGORIES:Lectures,Sciame Lectures
END:VEVENT
BEGIN:VTIMEZONE
TZID:America/New_York
X-LIC-LOCATION:America/New_York
BEGIN:DAYLIGHT
DTSTART:20200308T030000
TZOFFSETFROM:-0500
TZOFFSETTO:-0400
TZNAME:EDT
END:DAYLIGHT
END:VTIMEZONE
END:VCALENDAR