BEGIN:VCALENDAR
VERSION:2.0
PRODID:-//wp-events-plugin.com//7.2.3.1//EN
TZID:America/New_York
X-WR-TIMEZONE:America/New_York
BEGIN:VEVENT
UID:254@ssa.ccny.cuny.edu
DTSTART;TZID=America/New_York:20190321T173000
DTEND;TZID=America/New_York:20190321T190000
DTSTAMP:20190204T161312Z
URL:https://ssa.ccny.cuny.edu/events/sciame-lecture-series-ferda-kolatan/
SUMMARY:Sciame Lecture Series:  Ferda Kolatan
DESCRIPTION:Faculty Intro: Jeremy Edmiston\, Associate Professor\n\nFerda 
 Kolatan is currently an Associate Professor of Practice at PennDesign\, an
 d has previously taught and lectured in the United States and abroad. Kola
 tan holds professional degrees from RWTH Aachen University and Columbia Un
 iversity\, where he received the Honor Award for Excellence in Design and 
 the LSL Memorial Prize. \n\nKolatan is co-founder and director of SU1
 1 Architecture+Design\, an award-winning practice located in Brooklyn\, NY
 . SU11 combines innovative design research with real-world application 
 at various scales\, ranging from art objects to buildings and urban desig
 n. SU11 projects were published and exhibited at the Museum of Modern A
 rt\, Walker Art Center\, Vitra Design Museum\, PS1\, Archilab Orleans
 \, Artists Space NY\, and the SCI-Arc Gallery. SU11 has also participa
 ted in the Venice\, Beijing\, and Istanbul Biennales.  \n\nKolatan ha
 s co-authored Meander: Variegating Architecture (2010) and published num
 erous articles. In 2017\, he received a Gold Medal from the Cultural Min
 istry of Egypt\; and in 2011\, the American-Turkish Society selected K
 olatan as a Young Society Leader. He is also the recipient of the AIA AR
 CHITECT Studio Prize for the research produced from his Cairo-themed stu
 dio at PennDesign. \n\n \n\nSelected Bibliography\n\n&nbsp\;\n\nAll lect
 ures are free\, open to the public\, and held at 5:30 pm in the Bernard an
 d Anne Spitzer School of Architecture Sciame Auditorium. Continuing Educat
 ion Credit for registered New York architects is available.\n\nLecture ser
 ies sponsored by Sciame . . . Where Building Is an Art.
CATEGORIES:Lectures,Sciame Lectures
LOCATION:Bernard and Anne Spitzer School of Architecture\, 141 Convent Aven
 ue\, New York\, NY\, 10031\, United States
GEO:40.8177595;-73.95047339999996
X-APPLE-STRUCTURED-LOCATION;VALUE=URI;X-ADDRESS=141 Convent Avenue\, New Yo
 rk\, NY\, 10031\, United States;X-APPLE-RADIUS=100;X-TITLE=Bernard and Ann
 e Spitzer School of Architecture:geo:40.8177595,-73.95047339999996
END:VEVENT
BEGIN:VTIMEZONE
TZID:America/New_York
X-LIC-LOCATION:America/New_York
BEGIN:DAYLIGHT
DTSTART:20190310T030000
TZOFFSETFROM:-0500
TZOFFSETTO:-0400
TZNAME:EDT
END:DAYLIGHT
END:VTIMEZONE
END:VCALENDAR