BEGIN:VCALENDAR
VERSION:2.0
PRODID:-//wp-events-plugin.com//7.2.3.1//EN
TZID:America/New_York
X-WR-TIMEZONE:America/New_York
BEGIN:VEVENT
UID:309@ssa.ccny.cuny.edu
DTSTART;TZID=America/New_York:20200213T173000
DTEND;TZID=America/New_York:20200213T190000
DTSTAMP:20200210T164423Z
URL:https://ssa.ccny.cuny.edu/events/sciame-lecture-series-lucrecia-montem
 ayor/
SUMMARY:Sciame Lecture Series: Lucrecia Montemayor
DESCRIPTION:Lucrecia Montemayor is a waterfront associate planner at the NY
 C Department of City Planning (DCP). She is currently leading outreach eff
 orts for the City’s next Comprehensive Waterfront Plan\, as well as work
 ing on resiliency and governance issues along the waterfront. Originally f
 rom Mexico\, Lucrecia is an architect and urban planner interested in work
 ing at the intersection of planning\, research and design\, with a focus o
 n resilience. Previously\, she was at Regional Plan Association\, where sh
 e worked on RPA’s fourth regional plan and the design component 4C: Four
  Corridors: Forseeing the Region of the Future. She trained as an architec
 t at ITESM in Mexico and holds an MSc in City Design and Social Science fr
 om the London School of Economics and an MS in Urban Planning from the Gra
 duate School of Architecture\, Planning and Preservation at Columbia Unive
 rsity.\n\n Hosted by Catherine Seavitt Nordenson.\n\n&nbsp\;\n\nThe spring
  2020 SCIAME lecture series at Spitzer includes a full line-up of lectures
 \, symposia\, and special events that highlight our commitment to climate\
 , environmental\, and social justice. Under the broad umbrella of “Clima
 te Justice: Time to Think\, Talk and Make Change\,” we’ve put together
  a truly global series of speakers. All lectures are free\, open to the pu
 blic\, and held in the Bernard and Anne Spitzer School of Architecture Sci
 ame Auditorium. NYSED and AIA Continuing Education Credit for registered N
 ew York architects is available.\n\nLecture series sponsored by Sciame . .
  . Where Building Is an Art.\n\n&nbsp\;
CATEGORIES:Lectures,Sciame Lectures
LOCATION:Bernard and Anne Spitzer School of Architecture\, 141 Convent Aven
 ue\, New York\, NY\, 10031\, United States
GEO:40.8177595;-73.95047339999996
X-APPLE-STRUCTURED-LOCATION;VALUE=URI;X-ADDRESS=141 Convent Avenue\, New Yo
 rk\, NY\, 10031\, United States;X-APPLE-RADIUS=100;X-TITLE=Bernard and Ann
 e Spitzer School of Architecture:geo:40.8177595,-73.95047339999996
END:VEVENT
BEGIN:VTIMEZONE
TZID:America/New_York
X-LIC-LOCATION:America/New_York
BEGIN:STANDARD
DTSTART:20191103T010000
TZOFFSETFROM:-0400
TZOFFSETTO:-0500
TZNAME:EST
END:STANDARD
END:VTIMEZONE
END:VCALENDAR