BEGIN:VCALENDAR
VERSION:2.0
PRODID:-//wp-events-plugin.com//7.2.3.1//EN
TZID:America/New_York
X-WR-TIMEZONE:America/New_York
BEGIN:VEVENT
UID:199@ssa.ccny.cuny.edu
DTSTART;TZID=America/New_York:20180412T141500
DTEND;TZID=America/New_York:20180412T203000
DTSTAMP:20180406T130239Z
URL:https://ssa.ccny.cuny.edu/events/spitzer-sampler-2018/
SUMMARY:Spitzer Sampler 2018
DESCRIPTION:Invitation-Only Event for Admitted Graduate Students\n2:15-8:30
  p.m.\nSpitzer School\nRSVP required\n\nSchool tour\, program overviews\, 
 studio visits\, and more with your fellow future classmates.\nContact Hann
 ah Borgeson\, Graduate Student Services Manager\, if you have not received
  an invitation.
CATEGORIES:Special Events
LOCATION:Bernard and Anne Spitzer School of Architecture\, 141 Convent Aven
 ue\, New York\, NY\, 10031\, United States
GEO:40.8177595;-73.95047339999996
X-APPLE-STRUCTURED-LOCATION;VALUE=URI;X-ADDRESS=141 Convent Avenue\, New Yo
 rk\, NY\, 10031\, United States;X-APPLE-RADIUS=100;X-TITLE=Bernard and Ann
 e Spitzer School of Architecture:geo:40.8177595,-73.95047339999996
END:VEVENT
BEGIN:VTIMEZONE
TZID:America/New_York
X-LIC-LOCATION:America/New_York
BEGIN:DAYLIGHT
DTSTART:20180311T030000
TZOFFSETFROM:-0500
TZOFFSETTO:-0400
TZNAME:EDT
END:DAYLIGHT
END:VTIMEZONE
END:VCALENDAR