BEGIN:VCALENDAR
VERSION:2.0
PRODID:-//wp-events-plugin.com//7.2.3.1//EN
TZID:America/New_York
X-WR-TIMEZONE:America/New_York
BEGIN:VEVENT
UID:64@ssa.ccny.cuny.edu
DTSTART;TZID=America/New_York:20170406T141500
DTEND;TZID=America/New_York:20170406T203000
DTSTAMP:20170705T165315Z
URL:https://ssa.ccny.cuny.edu/events/spitzer-sampler/
SUMMARY:Spitzer Sampler
DESCRIPTION:Invitation-Only Event for Admitted Graduate Students\n2:15-8:30
  p.m.\nSpitzer School\nRSVP required\n\nSchool tour\, program overviews\, 
 studio visits\, and more with your fellow future classmates. Contact Hanna
 h Borgeson\, Graduate Student Services Manager\, if you have not received 
 an invitation.\n\n
CATEGORIES:Special Events
END:VEVENT
BEGIN:VTIMEZONE
TZID:America/New_York
X-LIC-LOCATION:America/New_York
BEGIN:DAYLIGHT
DTSTART:20170312T030000
TZOFFSETFROM:-0500
TZOFFSETTO:-0400
TZNAME:EDT
END:DAYLIGHT
END:VTIMEZONE
END:VCALENDAR