BEGIN:VCALENDAR
VERSION:2.0
PRODID:-//wp-events-plugin.com//7.2.3.1//EN
TZID:America/New_York
X-WR-TIMEZONE:America/New_York
BEGIN:VEVENT
UID:138@ssa.ccny.cuny.edu
DTSTART;TZID=America/New_York:20180222T113000
DTEND;TZID=America/New_York:20180222T140000
DTSTAMP:20180205T154852Z
URL:https://ssa.ccny.cuny.edu/events/spitzer-school-career-fair-2/
SUMMARY:Spitzer School Career Fair 2018
DESCRIPTION:Summer internships and full-time positions in architecture\, la
 ndscape architecture\, urban design\, sustainability\, and related fields.
 \n\nStudents and alumni job-seekers register through CCNY Career Connect
 ions: https://ccny-csm.symplicity.com/students/index.php?\n\n\n 	Go to CP
 DI Events and click Workshops\, Job Fairs &amp\; Special Events.\n 	From 
 here\, scroll to Spitzer Career Fair and click on the link to RSVP.\n\nEmp
 loyer registration: https://www.ccny.cuny.edu/cpdi/architecture-career-f
 air
CATEGORIES:Special Events
LOCATION:Bernard and Anne Spitzer School of Architecture\, 141 Convent Aven
 ue\, New York\, NY\, 10031\, United States
GEO:40.8177595;-73.95047339999996
X-APPLE-STRUCTURED-LOCATION;VALUE=URI;X-ADDRESS=141 Convent Avenue\, New Yo
 rk\, NY\, 10031\, United States;X-APPLE-RADIUS=100;X-TITLE=Bernard and Ann
 e Spitzer School of Architecture:geo:40.8177595,-73.95047339999996
END:VEVENT
BEGIN:VTIMEZONE
TZID:America/New_York
X-LIC-LOCATION:America/New_York
BEGIN:STANDARD
DTSTART:20171105T010000
TZOFFSETFROM:-0400
TZOFFSETTO:-0500
TZNAME:EST
END:STANDARD
END:VTIMEZONE
END:VCALENDAR