BEGIN:VCALENDAR
VERSION:2.0
PRODID:-//wp-events-plugin.com//7.2.3.1//EN
TZID:America/New_York
X-WR-TIMEZONE:America/New_York
BEGIN:VEVENT
UID:358@ssa.ccny.cuny.edu
DTSTART;TZID=America/New_York:20200527T180000
DTEND;TZID=America/New_York:20200527T190000
DTSTAMP:20200527T210833Z
URL:https://ssa.ccny.cuny.edu/events/spitzer-virtual-summer-show/
SUMMARY:Spitzer Virtual Summer Show
DESCRIPTION:&nbsp\;\n\nJoin us for an unforgettable virtual display of grit
 \, resilience\, imagination and more! It’s the Spitzer Virtual Summer Sh
 ow\, coming to you from bedrooms\, living rooms\, kitchens and studies all
  across New York City! This hour-long Zoom event hosted by Dean Lesley Lok
 ko\, Erica Wszolek\, and Nicole Paporello will feature student work\, a 5-
 minute video\, faculty announcements\, short speeches to honor retiring fa
 culty\, a special tribute to Professor Michael Sorkin\, the launch of our 
 student-led publication\, Antidotes I\, and prize announcements. Our gra
 duating classes will be feted the following day at a Spitzer Celebratory T
 oast designed for friends and family but please join us at the Summer Show
  to raise (your own) glasses to the class of 2020!\n\n&nbsp\;\n\n[Event Pr
 ogram]\n\n&nbsp\;\n\nPlease register in advance for this meeting. After re
 gistering\, you will receive a confirmation email containing information a
 bout joining the meeting.\n\n&nbsp\;\n\n
CATEGORIES:Events,Special Events
END:VEVENT
BEGIN:VTIMEZONE
TZID:America/New_York
X-LIC-LOCATION:America/New_York
BEGIN:DAYLIGHT
DTSTART:20200308T030000
TZOFFSETFROM:-0500
TZOFFSETTO:-0400
TZNAME:EDT
END:DAYLIGHT
END:VTIMEZONE
END:VCALENDAR