BEGIN:VCALENDAR
VERSION:2.0
PRODID:-//wp-events-plugin.com//7.2.3.1//EN
TZID:America/New_York
X-WR-TIMEZONE:America/New_York
BEGIN:VEVENT
UID:357@ssa.ccny.cuny.edu
DTSTART;TZID=America/New_York:20200508T130000
DTEND;TZID=America/New_York:20200514T180000
DTSTAMP:20200430T200510Z
URL:https://ssa.ccny.cuny.edu/events/spring-2020-final-reviews/
SUMMARY:Spring 2020 Final Reviews
DESCRIPTION:&nbsp\;\n\nSpitzer final reviews run May 8-14. Some are open to
  the public on Zoom\, with details below. To drop in on any other review\,
  contact the faculty for specifics.\n\n&nbsp\;\n\nFriday\, May 8: B Arch 3
 rd year\, M Arch 1st year\, MLA 1st year\nMonday\, May 11: Advanced Studio
 \, Advanced UD\nTuesday\, May 12: B Arch 2nd year\, M Arch\, 2nd year\, ML
 A 2nd year\nWednesday\, May 13: Advanced Studio\, MLA 3rd year\nThursday\,
  May 14: B Arch 1st year\n\n&nbsp\;\n\nFriday\, May 8\n\n&nbsp\;\n   \n\n\
 nStudio\nStudio Professor\n\n\nB Arch 3rd Year\nFabian Llonch\n1:00 pm\nJo
 in via Zoom here\n\n\nB Arch 3rd Year\nSuzan Wines\n1:00 pm\nJoin via Zoom
  here\n\n\nB Arch 3rd Year\nVanessa Keith\n\n\nB Arch 3rd Year\nJason Kim\
 n\n\nB Arch 3rd Year\nHenry Grosman\n\n\nM Arch 1st Year\nEliana Dotan\n\n
 \nM Arch 1st Year\nJohn Kirismagi\n\n\nM Arch 1st Year\nJohn Patrick Cunni
 ngham\n\n\nMLA 1st Year\nDenise Hoffman Brandt\n\n\n\n&nbsp\;\n\nMonday Ma
 y 11\n\n&nbsp\;\n   \n\n\nStudio\nStudio Professor\n\n\nAdvanced Studio\nJ
 acob Alspector\n1:00 pm\nJoin via Zoom here\n\n\nAdvanced Studio\nFrancis 
 Leadon\n\n\nAdvanced Studio\nViren Brahmbhatt\n\n\nAdvanced Studio\nTimoth
 y Collins\n\n\nAdvanced Studio\nJerome Haferd\n\n\nAdvanced / UD\nAlessand
 ra Cianchetta\n\n\n\n&nbsp\;\n\nTuesday\, May 12\n\n&nbsp\;\n   \n\n\nStud
 io\nStudio Professor\n\n\nB Arch 2nd Year\nElisabetta Terragni\n\n\nB Arch
  2nd Year\nEduardo Alfonso\n\n\nB Arch 2nd Year\nLior Galili\n\n\nB Arch 2
 nd Year\nPaul Ruppert\n\n\nB Arch 2nd Year\nZulaikha Ayub\n\n\nM Arch 2nd 
 Year\nAli Hocek\n\n\nM Arch 2nd Year\nMartin Stigsgaard\n\n\nMLA 2nd Year\
 nTricia Martin / Andrea Johnson\n\n\n\n&nbsp\;\n\nWednesday\, May 13\n\n&n
 bsp\;\n   \n\n\nStudio\nStudio Professor\n\n\nAdvanced Studio\nBrad Horn\n
 1:00 pm\nJoin via Zoom here\n\n\nAdvanced Studio\nJane Kim\n\n\nAdvanced S
 tudio\nKelly Bair\n\n\nAdvanced Studio\nFrank Melendez\n\n\nAdvanced Studi
 o\nJulie Nelson\n\n\nMLA 3rd Year\nCatherine Seavitt Nordenson\n\n\n\n&nbs
 p\;\n\nThursday\, May 14\n\n&nbsp\;\n   \n\n\nStudio\nStudio Professor\n\n
 \nB Arch 1st Year\nJeremy Edmiston\n\n\nB Arch 1st Year\nSamantha Josaphat
 \n\n\nB Arch 1st Year\nLindsay Harkema\n\n\nB Arch 1st Year\nAlberto Foyo\
 n\n\nB Arch 1st Year\nJeffrey Roberson\n\n\n\n&nbsp\;\n\n*Advanced Studios
  may include students from B Arch fourth and fifth years\, M Arch I third 
 year\, and M Arch II/MS Arch.
CATEGORIES:Events
END:VEVENT
BEGIN:VTIMEZONE
TZID:America/New_York
X-LIC-LOCATION:America/New_York
BEGIN:DAYLIGHT
DTSTART:20200308T030000
TZOFFSETFROM:-0500
TZOFFSETTO:-0400
TZNAME:EDT
END:DAYLIGHT
END:VTIMEZONE
END:VCALENDAR