BEGIN:VCALENDAR
VERSION:2.0
PRODID:-//wp-events-plugin.com//7.2.3.1//EN
TZID:America/New_York
X-WR-TIMEZONE:America/New_York
BEGIN:VEVENT
UID:128@ssa.ccny.cuny.edu
DTSTART;TZID=America/New_York:20171206T100000
DTEND;TZID=America/New_York:20171212T180000
DTSTAMP:20171205T163904Z
URL:https://ssa.ccny.cuny.edu/events/ssa-final-reviews/
SUMMARY:Final Reviews
DESCRIPTION:Final Reviews are open to the public and run until approximatel
 y 6:00 p.m. each day.\n\nWednesday\, December 6: B Arch third-year\, MLA 
 I first-year\, M Arch I first-year\nThursday\, December 7: B Arch first-
 year\, MLA I second-year\nFriday\, December 8: Advanced Studios* part 1\,
  Urban Design\nMonday\, December 11: Advanced Studios* part 2\nTuesday\, 
 December 12:  B Arch second-year\, M Arch I second-year\, MLA I third-yea
 r\n\n&nbsp\;\n\nWednesday\, December 6\n   \n\n\nStudio\nStudio Professor\
 nStart Time \n\n\nB Arch third-year\nJacob Alspector\n1:00 p.m.\n\n\nB Ar
 ch third-year\nQuardean Lewis-Allen\n1:00 p.m.\n\n\nB Arch third-year\nMar
 tin Stigsgaard\n1:00 p.m.\n\n\nB Arch third-year\nRobin Osler\n1:00 p.m.\n
 \n\nMLA I first-year\nDanae Alessi and\nAndrea Johnson\n1:00 p.m.\n\n\nM
 .Arch I first-year\nMarina Correia\n1:00 p.m.\n\n\nM.Arch I first-year\nLo
 ukia Tsfoulia\n1:00 p.m.\n\n\n\n&nbsp\;\n\nThursday\, December 7\n   \n\n\
 nStudio\nStudio Professor\nStart Time \n\n\nB Arch first-year\nJeremy Edm
 iston\n1:00 p.m.\n\n\nB Arch first-year\nJason Joon Kim\n1:00 p.m.\n\n\nB 
 Arch first-year\nPhilip Lee\n1:00 p.m.\n\n\nB Arch first-year\nJane Kim\n1
 :00 p.m.\n\n\nB Arch first-year\nTimothy Collins\n1:00 p.m.\n\n\nMLA I sec
 ond-year\nCatherine Seavitt Nordenson\n12:30 p.m.\n\n\n\n&nbsp\;\n\nFriday
 \, December 8\n   \n\n\nStudio\nStudio Professor\nStart Time \n\n\nAdvanc
 ed Studio*\nCaitlin Swaim\n11:00 a.m.\n\n\nAdvanced Studio*\nHenry Grosman
 \n1:00 p.m.\n\n\nAdvanced Studio*\nCarl Fredrik Svenstedt\n1:00 p.m.\n\n\n
 Urban Design\nMichael Sorkin\n1:00 p.m.\n\n\n\n&nbsp\;\n\nMonday\, Decembe
 r 11\n   \n\n\nStudio\nStudio Professor\nStart Time\n\n\nAdvanced Studio*\
 nBrad Horn\n1:00 p.m.\n\n\nAdvanced Studio*\nSuzan Wines\n1:00 p.m.\n\n\nA
 dvanced Studio*\nNandini Bagchee \n1:00 p.m.\n\n\nAdvanced Studio*\nChris
 tian Volkmann\n1:00 p.m.\n\n\nAdvanced Studio*\nPeter Gisolfi\n1:00 p.m.\n
 \n\n\n&nbsp\;\n\nTuesday\, December 12\n   \n\n\nStudio\nStudio Professor\
 nStart Time \n\n\nB Arch second-year\nAli Hocek\n1:00 p.m.\n\n\nB Arch se
 cond-year\nAlberto Foyo\n1:00 p.m.\n\n\nB Arch second-year\nSrdjan Jovanov
 ic Weiss\n1:00 p.m.\n\n\nB Arch second-year\nAndrea Steele\n1:00 p.m.\n\n\
 nB Arch second-year\nEliana Dotan\n1:00 p.m.\n\n\nM Arch I second-year\nFa
 bian Llonch\n10:00 a.m.\n\n\nM Arch I second-year\nJune Williamson\n1:00 p
 .m.\n\n\nMLA I third-year\nDenise Hoffman-Brandt\n1:00 p.m.\n\n\n\n&nbsp\;
 \n\n*Advanced Studios may include students from B Arch fourth- and fifth-y
 ear\, M Arch I third-year\, and M Arch II.
CATEGORIES:Special Events
LOCATION:Bernard and Anne Spitzer School of Architecture\, 141 Convent Aven
 ue\, New York\, NY\, 10031\, United States
GEO:40.8177595;-73.95047339999996
X-APPLE-STRUCTURED-LOCATION;VALUE=URI;X-ADDRESS=141 Convent Avenue\, New Yo
 rk\, NY\, 10031\, United States;X-APPLE-RADIUS=100;X-TITLE=Bernard and Ann
 e Spitzer School of Architecture:geo:40.8177595,-73.95047339999996
END:VEVENT
BEGIN:VTIMEZONE
TZID:America/New_York
X-LIC-LOCATION:America/New_York
BEGIN:STANDARD
DTSTART:20171105T010000
TZOFFSETFROM:-0400
TZOFFSETTO:-0500
TZNAME:EST
END:STANDARD
END:VTIMEZONE
END:VCALENDAR