BEGIN:VCALENDAR
VERSION:2.0
PRODID:-//wp-events-plugin.com//7.2.3.1//EN
TZID:America/New_York
X-WR-TIMEZONE:America/New_York
BEGIN:VEVENT
UID:15@ssa.ccny.cuny.edu
DTSTART;TZID=America/New_York;VALUE=DATE:20150820
DTEND;TZID=America/New_York;VALUE=DATE:20150821
DTSTAMP:20170704T140313Z
URL:https://ssa.ccny.cuny.edu/events/waterproofing-new-york-2/
SUMMARY:Waterproofing New York
DESCRIPTION:The Landscape Architecture Program of the City College of New Y
 ork's Spitzer School of Architecture\, with support from the Municipal Art
  Society\, American Society of Landscape Architects New York Chapter\, and
  the Institute for Urban Design\, will host a conference of municipal lead
 ers\, scientists\, engineers\, and designers to explore the impact of past
  and future storms on New York City's infrastructural systems: Water/Waste
 \, Power/Data\, Circulation/Fuel\, Parks/Recreation\, and Shelter. The con
 ference will reveal the operating systems of the city to open speculation 
 on Waterproofing New York as an act of coordinated yet opportunistic\, pra
 gmatic\, and inventive city design. The conference will explore the potent
 ial to imagine city design that transcends risk\, which seeks to assess ha
 zard\, in order to grapple with propositions in a context characterized by
  the uncertainty of multi-scalar social and environmental systems.
CATEGORIES:Lectures,Other Lectures
LOCATION:Bernard and Anne Spitzer School of Architecture\, 141 Convent Aven
 ue\, New York\, NY\, 10031\, United States
GEO:40.8177595;-73.95047339999996
X-APPLE-STRUCTURED-LOCATION;VALUE=URI;X-ADDRESS=141 Convent Avenue\, New Yo
 rk\, NY\, 10031\, United States;X-APPLE-RADIUS=100;X-TITLE=Bernard and Ann
 e Spitzer School of Architecture:geo:40.8177595,-73.95047339999996
END:VEVENT
BEGIN:VTIMEZONE
TZID:America/New_York
X-LIC-LOCATION:America/New_York
BEGIN:DAYLIGHT
DTSTART:20150308T030000
TZOFFSETFROM:-0500
TZOFFSETTO:-0400
TZNAME:EDT
END:DAYLIGHT
END:VTIMEZONE
END:VCALENDAR